BEGIN:VCALENDAR
VERSION:2.0
PRODID:-//eventon.com NONSGML v1.0//EN
CALSCALE:GREGORIAN
METHOD:PUBLISH
BEGIN:VEVENT
UID:69eae32b5237a
DTSTAMP:20260424T032739
DTSTART:20221104T113000Z
DTEND:20221104T143000Z
TZID:UTC
LOCATION:NEOS Ronse 
SUMMARY:Tafelen en lezing samen met NEOS Ronse
DESCRIPTION: De aanwezige senioren van Neos worden op een gezellige en informele manier ingeleid in de materie rond de Koerdische kwestie\,  en in het bijzonder maken ze kennis met de rijke Koerdische cultuur. Tijdens een aperitief ontvangen de aanwezigen een algemene inleiding\,  en nadien kan er over het onderwerp naar believen[..]\nhttps://www.kurdishinstitute.be/events/koerdische-gastentafel-en-lezing-bij-neos-ronse/
URL:https://www.kurdishinstitute.be/events/koerdische-gastentafel-en-lezing-bij-neos-ronse/
END:VEVENT
END:VCALENDAR