BEGIN:VCALENDAR
VERSION:2.0
PRODID:-//eventon.com NONSGML v1.0//EN
CALSCALE:GREGORIAN
METHOD:PUBLISH
BEGIN:VEVENT
UID:69eae29963d74
DTSTAMP:20260424T032513
DTSTART:20201208T190000Z
DTEND:20201208T213000Z
TZID:UTC
LOCATION:Markant Sint-Amandsberg 
SUMMARY:GEANNULEERD - Aan tafel met de Koerdische kwestie en Markant Sint-Amandsberg
DESCRIPTION: De aanwezige vrouwen van Markant vzw worden op een gezellige en informele manier ingeleid in de materie rond de Koerdische kwestie\,  en in het bijzonder maken ze kennis met de strijd van de Koerdische vrouwen. Tijdens een aperitief ontvangen de dames een algemene inleiding\,  en nadien kan er over het[..]\nhttps://www.kurdishinstitute.be/events/aan-tafel-met-de-koerdische-kwestie-en-markant-sint-amandsberg/
URL:https://www.kurdishinstitute.be/events/aan-tafel-met-de-koerdische-kwestie-en-markant-sint-amandsberg/
END:VEVENT
END:VCALENDAR